BEGIN:VCALENDAR
VERSION:2.0
PRODID:-//Lomi Lomi - ECPv6.15.20//NONSGML v1.0//EN
CALSCALE:GREGORIAN
METHOD:PUBLISH
X-ORIGINAL-URL:https://www.learnlomilomi.com.au
X-WR-CALDESC:Events for Lomi Lomi
REFRESH-INTERVAL;VALUE=DURATION:PT1H
X-Robots-Tag:noindex
X-PUBLISHED-TTL:PT1H
BEGIN:VTIMEZONE
TZID:UTC
BEGIN:STANDARD
TZOFFSETFROM:+0000
TZOFFSETTO:+0000
TZNAME:UTC
DTSTART:20230101T000000
END:STANDARD
END:VTIMEZONE
BEGIN:VEVENT
DTSTART;TZID=UTC:20240805T090000
DTEND;TZID=UTC:20240811T170000
DTSTAMP:20260425T102440
CREATED:20210707T043243Z
LAST-MODIFIED:20231206T040825Z
UID:2050-1722848400-1723395600@www.learnlomilomi.com.au
SUMMARY:Lomi Lomi Massage Training Level 4
DESCRIPTION:Standard ticket options are not available for this workshop.If you would like to join us and book your spot\, please email us here and we will provide you with everything you need to know to start your journey back to the source!\n \n \n\n\n\n\n \n\n\n\n\n\n\n\n\n\n\n\n7 days and 6 nights Traditional Old Style Hawaiian Lomi Lomi Massage course by lineage holder Dawn Charlton. Level 4 is the favourite workshop with all our students! Re-immerse yourself into the teachings of Hawaiian massage. Experience a week in the beauty of Honolulu\, Hawaii spending half your days increasing and expanding your Lomi Lomi teachings together with a group of dedicated & committed students and the other half exploring and touring the sights\, amazing scenes\, culture and traditions from the special birth place of our Lineage. \n\n\n\n\n\n\n\nWe only offer ‘Full Retreat Stay’ (accommodation\, food\, use of the retreat facilities\, full tuition and day tours included) option for our Level 4 workshop. \n\n\n\n \n\n\n\nWhat you will learn\n\n\n\n \n\n\n\nA full revision of Level 2 incorporating Level 3 trigger points is performed with stroke corrections and an emphasis of keeping the flow and rhythm throughout the massage. More trigger points are then introduced with a deeper focus on referred pain. Specific patterns of referred pain are worked through and practiced with some more advanced techniques of how to find and release difficult trigger points within the body. Stretching techniques are practiced and incorporated. Lomi Lomi for pregnancy is looked at with various techniques discussed and what areas that need to be avoided are examined. \n\n\n\n \n\n\n\nAfter successfully completing level 4 and feeling proficient\, you are able to extend your Traditional Old Style Hawaiian Lomi Lomi massage or offer as a stand alone treatments.You will receive a certificate on completion and as recognition of your additional training to be used in your registration with IICT. \n\n\n\n\n\n\n\n\n\n\n\n  \n\n\n\n\n\nWe take you on a journey into understanding yourself\, whilst deepening your understanding of the Lomi Lomi practice. We look at ancient techniques to recognise patterns within ourselves that may sabotage us and block the natural flow of moving forward and dealing with change in our lives. This ‘Old Style’ of Lomi Lomi is an ancient Polynesian wisdom handed down ritually from a sacred lineage. This simple\, powerful philosophy is based on living your truth. This entails having clear\, open honest communication with yourself and all your relationships. This is a journey into the soul\, discovering the essence of who you are\, without the masks that we wear to suppress this true inspiration. This is what the ancients believed was the root of stagnation which leads to all suffering and pain. \n\n\n\n \n\n\n\nThere are no formal notes given for this level as the emphasis is on feeling through each of the moves. However you are welcome to bring a notebook if written notes will aid in your style of learning. \n\n\n\n \n\n\n\nMorning meditations are usual to help calm the mind and relax the body\, move through any blocked emotions and help facilitate the learning process. \n\n\n\n \n\n\n\nWe have a number of tours organised with people carriers to ensure that all can attend. The afternoon tours give you an opportunity to explore and experience sacred places\, connect with waterfalls\, stunning nature and spend time in the powerful ocean. \n\n\n\n \n\n\n\nOur teaching style emphasises compassion\, kindness and a relaxed environment with laughter\, fun and support to make this learning an easy joyful experience. \n\n\n\n \n\n\n\n\n\n \n\n\n\n\n\n \n\n \n\n\n \n\n\n\n\nWHAT IS INCLUDED  \n \n• 6 nights shared accommodation• 7 days including afternoon tours• 3x nutritional meals per day (breakfast\, lunch & dinner)• Limited use of the retreat facilities (camp fires\, pool time\, kayaks & paddle boards)• Private transfers and transport to required locations• Use of massage oils\, massage tables & equipment• Daily Meditations• Certificate upon completion \n  \n \nWHAT IS NOT INCLUDED \n \n• Return flights to Hawaii• Sarongs x4• Towels for massage course x4• Towels for personal use (showering/swimming) x4• Visit to Polynesian Cultural Center – Midday to 9pm (choose your own ticket option)• Meals/Snacks outside of the retreat• Pens\, paper for note taking \n\n\n\n\n  \n  \n\n\n\n \n\n\n \n\n\n*Before completing your booking\, you must be able to provide proof that you have completed your Level 1\, Level 2 & Level 3 training with Traditional Old Style Hawaiian Lomi Lomi Massage & Training if requested. If you cannot provide proof of your training with us\, your booking may not be able to be confirmed. Massage/healing sessions by Dawn are not included. Any other services not mentioned in the itinerary is not included. \n\n\n\n\n\n\n\n\n\nStandard ticket options are not available for this workshop.If you would like to join us and book your spot\, please email us here and we will provide you with everything you need to know to start your journey back to the source!\n \n \n\n\n\n\n \n\n\n\n\n\n\n\n\n\n\n\n7 days and 6 nights Traditional Old Style Hawaiian Lomi Lomi Massage course by lineage holder Dawn Charlton. Level 4 is the favourite workshop with all our students! Re-immerse yourself into the teachings of Hawaiian massage. Experience a week in the beauty of Honolulu\, Hawaii spending half your days increasing and expanding your Lomi Lomi teachings together with a group of dedicated & committed students and the other half exploring and touring the sights\, amazing scenes\, culture and traditions from the special birth place of our Lineage. \n\n\n\n\n\n\n\nWe only offer ‘Full Retreat Stay’ (accommodation\, food\, use of the retreat facilities\, full tuition and day tours included) option for our Level 4 workshop. \n\n\n\n \n\n\n\nWhat you will learn\n\n\n\n \n\n\n\nA full revision of Level 2 incorporating Level 3 trigger points is performed with stroke corrections and an emphasis of keeping the flow and rhythm throughout the massage. More trigger points are then introduced with a deeper focus on referred pain. Specific patterns of referred pain are worked through and practiced with some more advanced techniques of how to find and release difficult trigger points within the body. Stretching techniques are practiced and incorporated. Lomi Lomi for pregnancy is looked at with various techniques discussed and what areas that need to be avoided are examined. \n\n\n\n \n\n\n\nAfter successfully completing level 4 and feeling proficient\, you are able to extend your Traditional Old Style Hawaiian Lomi Lomi massage or offer as a stand alone treatments.You will receive a certificate on completion and as recognition of your additional training to be used in your registration with IICT. \n\n\n\n\n\n\n\n\n\n\n\n  \n\n\n\n\n\nWe take you on a journey into understanding yourself\, whilst deepening your understanding of the Lomi Lomi practice. We look at ancient techniques to recognise patterns within ourselves that may sabotage us and block the natural flow of moving forward and dealing with change in our lives. This ‘Old Style’ of Lomi Lomi is an ancient Polynesian wisdom handed down ritually from a sacred lineage. This simple\, powerful philosophy is based on living your truth. This entails having clear\, open honest communication with yourself and all your relationships. This is a journey into the soul\, discovering the essence of who you are\, without the masks that we wear to suppress this true inspiration. This is what the ancients believed was the root of stagnation which leads to all suffering and pain. \n\n\n\n \n\n\n\nThere are no formal notes given for this level as the emphasis is on feeling through each of the moves. However you are welcome to bring a notebook if written notes will aid in your style of learning. \n\n\n\n \n\n\n\nMorning meditations are usual to help calm the mind and relax the body\, move through any blocked emotions and help facilitate the learning process. \n\n\n\n \n\n\n\nWe have a number of tours organised with people carriers to ensure that all can attend. The afternoon tours give you an opportunity to explore and experience sacred places\, connect with waterfalls\, stunning nature and spend time in the powerful ocean. \n\n\n\n \n\n\n\nOur teaching style emphasises compassion\, kindness and a relaxed environment with laughter\, fun and support to make this learning an easy joyful experience. \n\n\n\n \n\n\n\n\n\n \n\n\n\n\n\n \n\n \n\n\n \n\n\n\n\nWHAT IS INCLUDED  \n \n• 6 nights shared accommodation• 7 days including afternoon tours• 3x nutritional meals per day (breakfast\, lunch & dinner)• Limited use of the retreat facilities (camp fires\, pool time\, kayaks & paddle boards)• Private transfers and transport to required locations• Use of massage oils\, massage tables & equipment• Daily Meditations• Certificate upon completion \n  \n \nWHAT IS NOT INCLUDED \n \n• Return flights to Hawaii• Sarongs x4• Towels for massage course x4• Towels for personal use (showering/swimming) x4• Visit to Polynesian Cultural Center – Midday to 9pm (choose your own ticket option)• Meals/Snacks outside of the retreat• Pens\, paper for note taking \n\n\n\n\n  \n  \n\n\n\n \n\n\n \n\n\n*Before completing your booking\, you must be able to provide proof that you have completed your Level 1\, Level 2 & Level 3 training with Traditional Old Style Hawaiian Lomi Lomi Massage & Training if requested. If you cannot provide proof of your training with us\, your booking may not be able to be confirmed. Massage/healing sessions by Dawn are not included. Any other services not mentioned in the itinerary is not included.
URL:https://www.learnlomilomi.com.au/event/lomi-lomi-massage-training-level-4-050824/
LOCATION:Oahu\, Hawaii\, United States Minor Outlying Islands
CATEGORIES:All Workshops,Level 4 Workshop,Workshops
ATTACH;FMTTYPE=image/jpeg:https://www.learnlomilomi.com.au/wp-content/uploads/2023/11/IMG_6350.jpg
END:VEVENT
BEGIN:VEVENT
DTSTART;TZID=UTC:20240823T090000
DTEND;TZID=UTC:20240825T170000
DTSTAMP:20260425T102440
CREATED:20240607T022233Z
LAST-MODIFIED:20240725T005334Z
UID:4541-1724403600-1724605200@www.learnlomilomi.com.au
SUMMARY:Lomi Lomi Massage Training Level 1
DESCRIPTION:  \n\n\n\n\n\n\n  \n\n\n\n \n\n\n\n\n \n\n\n\n  \n\n\n\n\n\n\n\n\n\nYou are invited to an introduction to “Traditional Old Style Hawaiian Lomi Lomi Massage” through our entry level 1 training. It is a lineage based authentic Hawaiian style massage that has been passed down ritually through lineage form to Dawn Charlton after completing a 4-year one-on-one apprenticeship both in Hawaii and Australia. Dawn is teaching this massage\, just as it was taught hundreds of years ago in its purest form and is the only person worldwide able to teach this modality and style. It will be of interest to you\, if you are sincerely interested in learning this tradition in its most basic\, and “unpolluted” way. \n\n\n\n \n\n\n\nCurrently offering our ‘Day Stay’ option at Peace Mojo House in Burleigh Heads on the beautiful Gold Coast. Full tuition\, morning meditations\, and one yoga session is included. Accommodation and meals are not included for this workshop. \n\n\n\n \n\n\n\nWhat you will learn\n\n\n\n \n\n\n\nYou will be shown how this tradition was developed and passed on in its protected way for hundreds of years. Dawn became the first non-Hawaiian and woman to be passed this honour from her Kahu and mentor\, Sherman Dudoit (now known as Raman Das)\, who dedicated nearly thirty years of his life to carrying this “way” all over the world\, and how the “passing on” has come to Australia\, which is the cradle of the ancient ways. \n\n\n\n \n\n\n\nLevel 1 training is a complete therapy that covers all main regions of the body\, including the back; neck; chest; stomach; arms; hands; legs; feet and face. This form of Lomi Lomi is a restorative Hawaiian massage that works gently\, yet deeply into the muscles with continuous\, flowing strokes. This allows the recipient to completely relax due to the hypnotic effect\, bringing the mind to a place of absolute stillness. Touch\, rhythm and ancient wisdom come together\, allowing healing to occur. \n\n\n\n \n\n\n\nThe basic concepts of energy work is covered\, such as connecting with the receiver\, setting up your intent and taking care not to draw on your cellular energy. You will be taught to empower yourself to go within to find the answers\, to allow the natural healing energies to flow by focusing on pure intent. Also basic concepts of how to drape the body with a sarong so that the client feels safe and comfortable; oiling up the body so that it feels like part of the treatment are all covered. \n\n\n\n\n\n\n\n\n\n\n\n\n\n\n\n\n\n\n\n\n\n\n\n\n\n\n  \n\n\n\n\n\nThe long\, continuous strokes are designed to help the body let go of its old patterns and behaviours\, which can cause as many stresses and strains as muscle tension. Through its rhythm and patterns\, it activates meridians\, energy points\, releases energetic blocks and allows the body’s own healing processes to take over. \n\n\n\n \n\n\n\nBENEFITS OF LOMI LOMI MASSAGE• A complete full body massage from head to toes• Improves circulation• Lymphatic drainage & cleansing• Releases soft & deep tissue• Rejuvenates vital organs• Detoxifies the body• Pain relief• Relaxation• Stress & tension release• Emotional healing• Instils a sense of peace\, harmony & well being \n\n\n\n \n\n\n\nThis treatment when performed continuously will last approximately 1 hour to 90 minutes. There are no formal notes given however you are welcome to bring a notebook if written notes will aid in your style of learning. \n\n\n\n \n\n\n\nMorning meditations are usual and one yoga session Saturday morning to help calm the mind and relax the body\, move through any blocked emotions and help facilitate the learning process. \n\n\n\n \n\n\n\nOur teaching style emphasises compassion\, kindness and a relaxed environment with laughter\, fun and support to make this learning an easy joyful experience. \n\n\n\n \n\n\n\nMany massage therapists have studied and become qualified to be able to give this massage treatment\, which compliments their skills and other modalities and is recognised by IICT & ANTA and also covered by the IICT membership and can be added to your list of skills covered by insurance. You will receive a certificate on completion and as recognition of your training to be used in your registration with IICT. \n\n\n\n \n\n\n\n\n\n\n\n\n\n\n\n\n\n\n\n\n\n\n\n \n\n\n\n\n\n \n\n \n\n\n \n\n\n\n\nWHAT IS INCLUDED \n\n\n\n \n\n\n\n• 3 full days learning the knowledge to give (& receive) a 90 minute Traditional Old Style Lomi Lomi massage treatment• Proper use of massage oils\, massage tables & equipment• Sarong draping techniques• Morning meditations• Eye gazing ancient practice• Advanced Yoga session (Saturday morning)• Certificate (upon completion) \n\n\n\n  \n\n\n\n \n\n\n\nPLEASE BRING ALONG \n\n\n\n \n\n\n\n• Sarongs x3• Towels for massage course x2• Daily lunch and snacks• Pens\, paper for note taking \n\n\n\n\n\nCOSTS / PAYMENTS \n\n\n\n \n\n\n\nAll prices are per person in AUD. \n\n\n\n \n\n\n\nNon-refundable deposit of AUD $350 is required at the time of booking to secure your place outside of 3 months before departure. To pay your deposit only\, at checkout select ‘Bank Transfer’ as payment method and only transfer your non-refundable deposit of AUD $350 clearly marking your name in the reference. We will email you an invoice shortly after for the outstanding amount. \n\n\n\n \n\n\n\nWe require your second and final instalment of AUD $645 two weeks (14 days) before the start of the course. \n\n\n\n \n\n\n\n\n\nTotal cost DAY STAY Training is AUD $995 per person. \n\n\n\n\n\n \n\n \n\n\n \n\n\nAccommodation is not included (if you are not in driving distance\, please organise your own accommodation nearby). Meals are not included in this workshop. Massage/healing sessions by Dawn are not included. Any other services not mentioned in the itinerary is not included. \n\n\n\n\n\nBACK TO TOP\n\n\n\n\n\n\n\n 
URL:https://www.learnlomilomi.com.au/event/lomi-lomi-massage-training-level-1-23082024/
LOCATION:Peace Mojo House\, 88 West Burleigh Road\, Burleigh Heads\, Queensland\, 4220\, Australia
CATEGORIES:All Workshops,Level 1 Workshop,Workshops
ATTACH;FMTTYPE=image/jpeg:https://www.learnlomilomi.com.au/wp-content/uploads/2024/06/IMG_9888.jpg
END:VEVENT
END:VCALENDAR