BEGIN:VCALENDAR
VERSION:2.0
PRODID:-//Lomi Lomi - ECPv6.15.20//NONSGML v1.0//EN
CALSCALE:GREGORIAN
METHOD:PUBLISH
X-WR-CALNAME:Lomi Lomi
X-ORIGINAL-URL:https://www.learnlomilomi.com.au
X-WR-CALDESC:Events for Lomi Lomi
REFRESH-INTERVAL;VALUE=DURATION:PT1H
X-Robots-Tag:noindex
X-PUBLISHED-TTL:PT1H
BEGIN:VTIMEZONE
TZID:UTC
BEGIN:STANDARD
TZOFFSETFROM:+0000
TZOFFSETTO:+0000
TZNAME:UTC
DTSTART:20220101T000000
END:STANDARD
END:VTIMEZONE
BEGIN:VEVENT
DTSTART;TZID=UTC:20230310T090000
DTEND;TZID=UTC:20230312T170000
DTSTAMP:20260423T134828
CREATED:20230124T020338Z
LAST-MODIFIED:20231113T061117Z
UID:2994-1678438800-1678640400@www.learnlomilomi.com.au
SUMMARY:Lomi Lomi Massage Training Level 2
DESCRIPTION:Lomi Lomi Massage Training L2\n\n\n\n\n\n\n\nDates  \n\n\n\n\n\n\n\n\n\nLocation \n\n\n\n\n\n\n\n\n\n\n\n\n\nWorkshop TypeLevel 2 Workshop \n\n\n\n\n\n\n\nTo pay your deposit only\, please select the ‘Day Stay’ ticket then at checkout select ‘Bank Transfer’ for payment method and only transfer your non-refundable deposit of $350 clearly marking your name in the reference. We will email you an invoice shortly after for the outstanding amount. Special Introductory Price of $995 available if paid 4 weeks prior to workshop commencement date. The full amount is due 14 days before the event. \n\n\n\n\n\n\n\n\n\n\n\n\n\n \n\n\n\n\n\n\n\n\n\n\n\n3 day Traditional Old Style Hawaiian Lomi Lomi Massage course by lineage holder Dawn Charlton. Re-connect with students from your level 1 experience or with new like minded ‘Ohana members and develop further your Lomi Lomi techniques\, adding new strokes and extending the massage you give…  \n\n\n\n\n\n\n\n \n\n\n\nCurrently offering our ‘Day Stay’ option at Peace Mojo House in Burleigh Heads on the beautiful Gold Coast. Full tuition\, morning meditations\, nourishing lunch daily and one yoga session is included. Accommodation is not included for this workshop. \n\n\n\n\n\n\n\nWhat you will learn\n\n\n\n\n\n\n\nLevel 2 training is an extension of Level 1. We revisit level 1 introducing more depth of knowledge and number of new strokes. This allows the practitioner to go much deeper into relieving tension in the major parts of the body that hold the stresses of modern living and trauma from physical exertion. \n\n\n\n\n\n\n\nThe techniques used in level 2 were perfected over the centuries by Hawaiian Healers to reintegrate the parts of the body of Hawaiian warriors that had been damaged in battle. \n\n\n\n\n\n\n\nWithin the longer flowing strokes more specific techniques are introduced that are highly effective at releasing tensed up muscles and moving  stagnant energies though and out of the body. \n\n\n\n\n\n\n\n \n\n\n\nMore emphasis is added to becoming centred in the rhythm of Traditional Old Style Lomi Lomi\, opening up the heart energy\, connecting you to your higher self and the abundance of kindness and healing. This energy will flow into your clients and complete the circle of life. \n\n\n\n \n\n\n\n\n\n\n\n \n\n\n\n\n\nThis treatment when performed continuously will last approximately 90 minutes to 2 hours. There are no formal notes given for this level as the emphasis is on feeling through each of the moves. However you are welcome to bring a notebook if written notes will aid in your style of learning. \n\n\n\n\n\n\n\nMorning meditations are usual and one yoga session Saturday morning to help calm the mind and relax the body\, move through any blocked emotions and help facilitate the learning process. \n\n\n\n\n\n\n\nLevel 2 provides a deeper knowledge and understanding. We look back on Level 1 and extend it part by part into an even more complete massage. \n\n\n\n\n\n\n\nTheses trigger points are then integrated into the Level 2 Lomi Lomi massage sequence. The trigger points can be used as a stand alone therapy or incorporated into the Lomi Lomi stroke sequence as much as is desired or required. \n\n\n\n\n\n\n\nThe main areas of the body are then attended to with a series of specific strokes designed to help with lymphatic drainage and introduction of trigger points to relieve muscular tension. All the while the hands rarely leave the body as each series of stokes connect seamlessly. This treatment extends the massage from around 90 minutes to 2 hours. \n\n\n\n\n\n\n\nOur teaching style emphasises compassion\, kindness and a relaxed environment with laughter\, fun and support to make this learning an easy joyful experience. \n\n\n\n\n\n\n\nYou will receive a certificate on completion and as recognition of your additional training to be used in your registration with IICT. \n\n\n\n\n\n\n\n\n\n\n\n\n\n\n \n\n \n\n\n\n\n\n\n\n\n\nWHAT IS INCLUDED (DAY STAY) \n\n\n\n\n\n\n\n• 3 days tuition• Nutritional lunches daily• Use of massage oils\, massage tables & equipment• Daily meditations• Yoga session (Saturday morning)• Certificate (upon completion) \n\n\n\n \n\n\n\n\n\n\n\nWHAT IS NOT INCLUDED (PLEASE BRING/ORGANISE) \n\n\n\n\n\n\n\n• Sarongs x3• Towels for massage course x2• Meals/Snacks outside of the retreat• Pens\, paper for note taking• Accommodation not included (if you are not in driving distance\, please organise your own accommodation nearby)• Massage/healing sessions by Dawn not included• Any other services not mentioned in the itinerary \n\n\n\n\n\nCOSTS / PAYMENTS \n\n\n\n\n\n\n\nAll prices are per person in AUD. \n\n\n\n\n\n\n\nNon-refundable deposit of AUD $350 is required at the time of booking to secure your place outside of 3 months before departure \n\n\n\n\n\n\n\nWe require your second and final instalment $745 AUD 2 weeks before the start of the course \n\n\n\n\n\n\n\n \n\n\n\nTotal cost DAY STAY Training is AUD $1\,095 per person \n\n\n\n\n\n\n \n\n \n\n\n \n\n\n\n*Before completing your booking\, you must be able to provide proof that you have completed your Level 1 training with Traditional Old Style Hawaiian Lomi Lomi Massage & Training if requested. If you cannot provide proof of your training with us\, your booking may not be able to be confirmed. \n\n\n\n\n\n\n\nBACK TO TOP
URL:https://www.learnlomilomi.com.au/event/lomi-lomi-massage-training-level-2-10323/
LOCATION:Peace Mojo House\, 88 West Burleigh Road\, Burleigh Heads\, Queensland\, 4220\, Australia
CATEGORIES:All Workshops,Level 2 Workshop,Workshops
ATTACH;FMTTYPE=image/jpeg:https://www.learnlomilomi.com.au/wp-content/uploads/2023/01/IMG_0810.jpg
END:VEVENT
END:VCALENDAR