BEGIN:VCALENDAR
VERSION:2.0
PRODID:-//Lomi Lomi - ECPv6.15.20//NONSGML v1.0//EN
CALSCALE:GREGORIAN
METHOD:PUBLISH
X-WR-CALNAME:Lomi Lomi
X-ORIGINAL-URL:https://www.learnlomilomi.com.au
X-WR-CALDESC:Events for Lomi Lomi
REFRESH-INTERVAL;VALUE=DURATION:PT1H
X-Robots-Tag:noindex
X-PUBLISHED-TTL:PT1H
BEGIN:VTIMEZONE
TZID:UTC
BEGIN:STANDARD
TZOFFSETFROM:+0000
TZOFFSETTO:+0000
TZNAME:UTC
DTSTART:20240101T000000
END:STANDARD
END:VTIMEZONE
BEGIN:VEVENT
DTSTART;TZID=UTC:20251128T090000
DTEND;TZID=UTC:20251130T170000
DTSTAMP:20260423T212614
CREATED:20250909T014118Z
LAST-MODIFIED:20250909T014118Z
UID:5467-1764320400-1764522000@www.learnlomilomi.com.au
SUMMARY:Lomi Lomi Massage Training Level 2 (By invitation only - South Brisbane)
DESCRIPTION:Content is protected.
URL:https://www.learnlomilomi.com.au/event/lomi-lomi-massage-training-level-2-281125/
LOCATION:Kono Kollective\, 2-4 Atlantic Drive\, Loganholme\, QLD\, 4129\, Australia
CATEGORIES:All Workshops,Level 2 Workshop,Workshops
END:VEVENT
END:VCALENDAR