BEGIN:VCALENDAR
VERSION:2.0
PRODID:-//Lomi Lomi - ECPv6.15.20//NONSGML v1.0//EN
CALSCALE:GREGORIAN
METHOD:PUBLISH
X-ORIGINAL-URL:https://www.learnlomilomi.com.au
X-WR-CALDESC:Events for Lomi Lomi
REFRESH-INTERVAL;VALUE=DURATION:PT1H
X-Robots-Tag:noindex
X-PUBLISHED-TTL:PT1H
BEGIN:VTIMEZONE
TZID:UTC
BEGIN:STANDARD
TZOFFSETFROM:+0000
TZOFFSETTO:+0000
TZNAME:UTC
DTSTART:20240101T000000
END:STANDARD
END:VTIMEZONE
BEGIN:VEVENT
DTSTART;TZID=UTC:20250822T090000
DTEND;TZID=UTC:20250824T170000
DTSTAMP:20260424T064114
CREATED:20250619T030857Z
LAST-MODIFIED:20250619T040238Z
UID:5326-1755853200-1756054800@www.learnlomilomi.com.au
SUMMARY:Lomi Lomi Massage Training Level 1 (By Invitation Only - South Brisbane)
DESCRIPTION:Content is protected.
URL:https://www.learnlomilomi.com.au/event/lomi-lomi-massage-training-level-1-by-invitation-only-220825/
LOCATION:Kono Kollective\, 2-4 Atlantic Drive\, Loganholme\, QLD\, 4129\, Australia
CATEGORIES:All Workshops,Level 1 Workshop,Workshops
END:VEVENT
END:VCALENDAR